BEGIN:VCALENDAR
VERSION:2.0
PRODID:-//Wisconsin Security Association Inc. - ECPv6.15.20//NONSGML v1.0//EN
CALSCALE:GREGORIAN
METHOD:PUBLISH
X-WR-CALNAME:Wisconsin Security Association Inc.
X-ORIGINAL-URL:https://www.wiesa.org
X-WR-CALDESC:Events for Wisconsin Security Association Inc.
REFRESH-INTERVAL;VALUE=DURATION:PT1H
X-Robots-Tag:noindex
X-PUBLISHED-TTL:PT1H
BEGIN:VTIMEZONE
TZID:America/Chicago
BEGIN:DAYLIGHT
TZOFFSETFROM:-0600
TZOFFSETTO:-0500
TZNAME:CDT
DTSTART:20240310T080000
END:DAYLIGHT
BEGIN:STANDARD
TZOFFSETFROM:-0500
TZOFFSETTO:-0600
TZNAME:CST
DTSTART:20241103T070000
END:STANDARD
BEGIN:DAYLIGHT
TZOFFSETFROM:-0600
TZOFFSETTO:-0500
TZNAME:CDT
DTSTART:20250309T080000
END:DAYLIGHT
BEGIN:STANDARD
TZOFFSETFROM:-0500
TZOFFSETTO:-0600
TZNAME:CST
DTSTART:20251102T070000
END:STANDARD
BEGIN:DAYLIGHT
TZOFFSETFROM:-0600
TZOFFSETTO:-0500
TZNAME:CDT
DTSTART:20260308T080000
END:DAYLIGHT
BEGIN:STANDARD
TZOFFSETFROM:-0500
TZOFFSETTO:-0600
TZNAME:CST
DTSTART:20261101T070000
END:STANDARD
END:VTIMEZONE
BEGIN:VEVENT
DTSTART;VALUE=DATE:20250929
DTEND;VALUE=DATE:20251002
DTSTAMP:20260421T063512
CREATED:20250921T144627Z
LAST-MODIFIED:20250921T144821Z
UID:81060-1759104000-1759363199@www.wiesa.org
SUMMARY:GSX | New Orleans\, LA
DESCRIPTION:Security demands staying a step ahead. Attending Global Security Exchange (GSX)\, powered by ASIS International\, yearly ensures you never fall behind. Be there when the worldwide security industry reconvenes in September to stay informed\, connected\, and prepared for what’s next. \n\nAccess CPE-eligible education on the most pressing issues impacting the profession in 2025 and beyond.\nBuild or strengthen professional networks and connections.\nDevelop strategies to remain resilient against evolving cyber and physical threats.\nDiscover new products\, technologies\, and services to advance your capabilities in our expansive exhibit hall.\n\nJoin security leaders and practitioners from every industry and sector to gain the knowledge and capabilities you need to anticipate security’s evolving variables and navigate the risks. Learn more and leverage the opportunity to cultivate the skills\, knowledge and confidence you need to eliminate emerging threats. \n\n\n\nMonday\, 29 September\nAll Times Central Daylight\n\n\n\n\n7:00 am – 4:30 pm\nRegistration Open\n\n\n8:30 am – 9:30 am\nKeynote General Session 1\,\nSponsored by Axon Enterprise\n\n\n9:30 am – 4:30 pm\nExhibit Hall Open\n\n\n9:30 am – 4:30 pm\nBlood Drive\, Booth #4047\n\n\n9:30 am – 11:00 am\nExhibit Hall Coffee Break\nSponsored by UniPro\n\n\n10:00 am – 11:00 am\nConcurrent Sessions\n\n\n10:30 am – 11:00 am\nStudent Welcome in the GSX Bistro\n\n\n11:00 am – 12:00 pm\nPast Presidents Lunch\n\n\n11:00 am – 3:20 pm\nExhibit Hall Learning\nOpen to all attendees\n\n\n11:15 am – 12:15 pm\nConcurrent Sessions\n\n\n11:15 am – 12:15 pm\nGame Changer Session\n\n\n11:30 am – 2:00 pm\nBistro GSX\nSponsored by Action Bullet Resistant Corp.\n\n\n2:00 pm – 3:00 pm\nConcurrent Sessions\n\n\n2:30 pm – 4:00 pm\nExhibit Hall Coffee Break\nSponsored by UniPro\n\n\n3:00 pm – 4:30 pm\nExhibit Hall Happy Hour\nOpen to all attendees\nSponsored by 3Si\n\n\n3:15 pm – 4:15 pm\nConcurrent Sessions\n\n\n4:30 pm – 6:00 pm\nWomen in Security & Next Gen Happy Hour – ENMCC – La Nouvelle C\nRegistration is Open to ASIS Members. Registration required.\nSponsored by Amazon\, Worldwide Operations Security\, Inter-Con Security\n\n\n\n\n\n\n\n\nTuesday\, 30 September\nAll Times Central Daylight\n\n\n\n\n7:00 am – 4:30 pm\nRegistration Open\n\n\n8:30 am – 9:30 am\nKeynote General Session 2\nSponsored by Allied Universal\n\n\n9:30 am – 11:00 am\nExhibit Hall Coffee Break\nSponsored by UniPro\n\n\n9:30 am – 4:30 pm\nExhibit Hall Open\n\n\n9:30 am – 4:30 pm\nBlood Drive\, Booth #4047\n\n\n10:00 am – 11:00 am\nConcurrent Sessions\n\n\n10:30 am – 11:45 am\nSpeed Mentoring\nRegistration required.\n\n\n11:15 am – 12:15 pm\nConcurrent Sessions\n\n\n11:15 am – 12:15 pm\nGame Changer Session\n\n\n11:30 am – 2:00 pm\nBistro GSX\nSponsored by Action Bullet Resistant Corp.\n\n\n12:30 pm – 3:20 pm\nExhibit Hall Learning\nOpen to all attendees\n\n\n1:30 pm – 2:30 pm\nConcurrent Sessions\n\n\n2:30 pm – 4:00 pm\nExhibit Hall Coffee Break\nSponsored by UniPro\n\n\n2:45 pm – 3:45 pm\nConcurrent Sessions\n\n\n3:15 pm – 4:15 pm\nConcurrent Sessions\n\n\n4:00 pm – 4:20 pm\nExhibit Hall Learning\nOpen to all attendees\n\n\n4:30 – 6:30 PM\nThe Women In Security Documentary Screening\nSponsored by Amazon & Worldwide Operations Security\n\n\n\n6:30 pm – 9:30 pm\nASIS Celebrates! at the World War II Museum​\nTicket required; included with All Access Pass\nSponsored by Johnson Controls\n\n\n\n\n\n\n\n\n\n\n\n\nWednesday\, 1 October – Military & Law Enforcement Appreciation Day\nAll Times Central Daylight\n\n\n\n\n7:00 am – 3:00 pm\nRegistration Open\n\n\n7:30 am – 8:30 am\nMilitary & Law Enforcement Appreciation Day Breakfast\nOpen to all active and retired military\, law enforcement\, and first responders. Ticket required.\n\nSponsored by Protos Security\n\n\n8:30 am – 9:30 am\nConcurrent Sessions\n\n\n9:30 am – 11:00 am\nExhibit Hall Coffee Break\nSponsored by UniPro\n\n\n9:30 am – 3:00 pm\nExhibit Hall Open\n\n\n9:30 am – 3:00 pm\nBlood Drive\, Booth #4047\n\n\n9:45 am – 10:45 am\nConcurrent Sessions & Game Changer\n\n\n11:00 am – 2:20 pm\nExhibit Hall Learning\nOpen to all attendees\n\n\n11:15 am – 12:15 pm\nKeynote General Session 3\n\n\n11:30 am – 2:00 pm\nBistro GSX\nSponsored by Action Bullet Resistant Corp.\n\n\n12:30 pm – 2:20 pm\nExhibit Hall Learning\nOpen to all attendees\n\n\n\n\n\n\nREGISTER TODAY
URL:https://www.wiesa.org/event/gsx-new-orleans-la-sept-29-oct-1-2025/
LOCATION:Ernest N. Morial Convention Center\, 900 Convention Center Blvd\, New Orleans\, LA\, 70130\, United States
CATEGORIES:News and Events
END:VEVENT
BEGIN:VEVENT
DTSTART;TZID=America/Chicago:20251014T080000
DTEND;TZID=America/Chicago:20251016T170000
DTSTAMP:20260421T063512
CREATED:20241026T162915Z
LAST-MODIFIED:20250911T150938Z
UID:77369-1760428800-1760634000@www.wiesa.org
SUMMARY:Certified Alarm Technician Level I
DESCRIPTION:Course Description\nThe Core Technical Training and Certification Program for the Electronic Security Industry and considered so essential dozens of states and localities insist on it as a prerequisite for performing security integration work. The course is targeted to technicians\, service personnel\, installation personnel\, sales staff and business owners to prepare to plan for and initiate a successful installation. A two-hour examination concludes the course. (NTS 2.4 CEUs) An e-manual is included in this purchase-Prefer print\, a copy can be purchased through NTS for an additional cost. \n*All technicians in the City of Milwaukee must be CAT Certified and is a prerequisite for attending the new professional Fire Alarm Design Course. \nSubject Areas\n•Standards •Alarm management •Electricity •Alarm Systems •Perimeter sensors •Interior sensors •Fire systems •Notification devices •Power supplies •Control Panels •Communications •Related systems CCTV •Access control •Wiring methods •Tools •Quality & planning •Troubleshooting •Client relations •Job safety \nWISA Members – $395\nNon-Members – $545 \nDownload your registration here! \n*Optional if sufficient enrollment of 12 \n**Class is being updated for 2025
URL:https://www.wiesa.org/event/certified-alarm-technician-level-i-october-14-16-2025/
LOCATION:ADI\, 13100 W Lisbon Rd\, Brookfield\, WI\, 53005\, United States
CATEGORIES:Available Classes,Certified Alarm Technician Level I
ATTACH;FMTTYPE=image/jpeg:https://www.wiesa.org/wp-content/uploads/2024/10/Firefly-training-class-security-camera-with-devices-on-a-table-for-the-production-of-cctv-94820-scaled.jpg
ORGANIZER;CN="Nicole Szopinski":MAILTO:executive.director@wiesa.org
END:VEVENT
BEGIN:VEVENT
DTSTART;TZID=America/Chicago:20251016T150000
DTEND;TZID=America/Chicago:20251016T170000
DTSTAMP:20260421T063512
CREATED:20241021T015128Z
LAST-MODIFIED:20241021T015128Z
UID:77266-1760626800-1760634000@www.wiesa.org
SUMMARY:WISA Board Meeting
DESCRIPTION:All reports due October 12\, 2025 \nLocation to be determined.
URL:https://www.wiesa.org/event/wisa-board-meeting-october-16-2025/
LOCATION:IL
CATEGORIES:News and Events
ORGANIZER;CN="Nicole Szopinski":MAILTO:executive.director@wiesa.org
END:VEVENT
END:VCALENDAR