BEGIN:VCALENDAR
VERSION:2.0
PRODID:-//Wisconsin Security Association Inc. - ECPv6.15.20//NONSGML v1.0//EN
CALSCALE:GREGORIAN
METHOD:PUBLISH
X-ORIGINAL-URL:https://www.wiesa.org
X-WR-CALDESC:Events for Wisconsin Security Association Inc.
REFRESH-INTERVAL;VALUE=DURATION:PT1H
X-Robots-Tag:noindex
X-PUBLISHED-TTL:PT1H
BEGIN:VTIMEZONE
TZID:America/Chicago
BEGIN:DAYLIGHT
TZOFFSETFROM:-0600
TZOFFSETTO:-0500
TZNAME:CDT
DTSTART:20250309T080000
END:DAYLIGHT
BEGIN:STANDARD
TZOFFSETFROM:-0500
TZOFFSETTO:-0600
TZNAME:CST
DTSTART:20251102T070000
END:STANDARD
BEGIN:DAYLIGHT
TZOFFSETFROM:-0600
TZOFFSETTO:-0500
TZNAME:CDT
DTSTART:20260308T080000
END:DAYLIGHT
BEGIN:STANDARD
TZOFFSETFROM:-0500
TZOFFSETTO:-0600
TZNAME:CST
DTSTART:20261101T070000
END:STANDARD
BEGIN:DAYLIGHT
TZOFFSETFROM:-0600
TZOFFSETTO:-0500
TZNAME:CDT
DTSTART:20270314T080000
END:DAYLIGHT
BEGIN:STANDARD
TZOFFSETFROM:-0500
TZOFFSETTO:-0600
TZNAME:CST
DTSTART:20271107T070000
END:STANDARD
END:VTIMEZONE
BEGIN:VEVENT
DTSTART;TZID=America/Chicago:20261112T150000
DTEND;TZID=America/Chicago:20261112T170000
DTSTAMP:20260421T175453
CREATED:20251027T182645Z
LAST-MODIFIED:20260215T224322Z
UID:81347-1794495600-1794502800@www.wiesa.org
SUMMARY:WISA Board Meeting
DESCRIPTION:All reports due November 8\, 2026 \nLocation to be determined.
URL:https://www.wiesa.org/event/wisa-board-meeting-nov-12-2026/
LOCATION:IL
CATEGORIES:News and Events
ATTACH;FMTTYPE=image/jpeg:https://www.wiesa.org/wp-content/uploads/2026/02/Board-Meeting-Image-for-website-scaled.jpg
ORGANIZER;CN="Nicole Szopinski":MAILTO:executive.director@wiesa.org
END:VEVENT
BEGIN:VEVENT
DTSTART;TZID=America/Chicago:20261112T170000
DTEND;TZID=America/Chicago:20261112T210000
DTSTAMP:20260421T175453
CREATED:20260215T230937Z
LAST-MODIFIED:20260224T161404Z
UID:82085-1794502800-1794517200@www.wiesa.org
SUMMARY:General Assembly Meeting & Meet Your Vendor
DESCRIPTION:Join us for our General Member Meeting scheduled from 5-8 pm on Thursday\, Novenber 12th. General Member meetings are a great way to meet other people in the alarm industry. Everyone is able to talk and discuss what is going on with their company and get some helpful hints\, strategies and more. It is an excellent way to network! \nAgenda:\n5:00 pm Registration\n5:45 pm Dinner\n6:30 pm Meeting \nRoom block king bed $112.00 + tax. Room block ends October 22\, 2026 \nCall The Holiday Inn  @ 262-506-6300 and mention WISA for the rate or click the link below \nBook your room at the Holiday Inn
URL:https://www.wiesa.org/event/general-assembly-meeting-meet-your-vendor/
LOCATION:IL
CATEGORIES:News and Events
ATTACH;FMTTYPE=image/jpeg:https://www.wiesa.org/wp-content/uploads/2026/02/Annual-Member-Meetings-scaled.jpg
ORGANIZER;CN="Nicole Szopinski":MAILTO:executive.director@wiesa.org
END:VEVENT
END:VCALENDAR