BEGIN:VCALENDAR
VERSION:2.0
PRODID:-//Wisconsin Security Association Inc. - ECPv6.15.20//NONSGML v1.0//EN
CALSCALE:GREGORIAN
METHOD:PUBLISH
X-ORIGINAL-URL:https://www.wiesa.org
X-WR-CALDESC:Events for Wisconsin Security Association Inc.
REFRESH-INTERVAL;VALUE=DURATION:PT1H
X-Robots-Tag:noindex
X-PUBLISHED-TTL:PT1H
BEGIN:VTIMEZONE
TZID:America/Chicago
BEGIN:DAYLIGHT
TZOFFSETFROM:-0600
TZOFFSETTO:-0500
TZNAME:CDT
DTSTART:20240310T080000
END:DAYLIGHT
BEGIN:STANDARD
TZOFFSETFROM:-0500
TZOFFSETTO:-0600
TZNAME:CST
DTSTART:20241103T070000
END:STANDARD
BEGIN:DAYLIGHT
TZOFFSETFROM:-0600
TZOFFSETTO:-0500
TZNAME:CDT
DTSTART:20250309T080000
END:DAYLIGHT
BEGIN:STANDARD
TZOFFSETFROM:-0500
TZOFFSETTO:-0600
TZNAME:CST
DTSTART:20251102T070000
END:STANDARD
BEGIN:DAYLIGHT
TZOFFSETFROM:-0600
TZOFFSETTO:-0500
TZNAME:CDT
DTSTART:20260308T080000
END:DAYLIGHT
BEGIN:STANDARD
TZOFFSETFROM:-0500
TZOFFSETTO:-0600
TZNAME:CST
DTSTART:20261101T070000
END:STANDARD
END:VTIMEZONE
BEGIN:VEVENT
DTSTART;TZID=America/Chicago:20250918T110000
DTEND;TZID=America/Chicago:20250918T200000
DTSTAMP:20260421T113354
CREATED:20241026T170846Z
LAST-MODIFIED:20250911T150535Z
UID:77405-1758193200-1758225600@www.wiesa.org
SUMMARY:2025 Jack Kelleher Memorial Golf Outing
DESCRIPTION:Kettle Moraine Golf Club\n						  \nKettle Moraine Golf Club has been the Milwaukee area’s favorite golf course for over 30 years.  The outstanding 6\,406 yard layout winds through the beautiful combination of woods and wetlands to give golfers an experience to remember. The course is always well-groomed and fun for golfers of all skill levels. \nThe amenities at Kettle Moraine only begin with the golf course.  Our driving range\, banquet hall\, full-line golf shop\, bar\, practice green\, outdoor pavilion and professional golf instruction are among the other reasons to make Kettle Moraine your next golf destination. \n  \n					\n				\n			\n				\n				\n				\n				\n				\n					\n					\n						Schedule Of Events\n						  \n11.00 to 12:30 Registration12:00 to 12:45 Lunch1:00  Shotgun Start6:00 to 7:00 Dinner7:00 to 8:00 Prizes & Raffles \n  \n					\n				\n			\n				\n				\n				\n				\n				\n					\n					\n						Deadlines\n						 \n  \nSeptember 4\, 2025\nLogos must be received. Email high definition\,logo to: info@wiesa.orgSponsorships dueGolf registrationMajor prize list \n  \n					\n				\n			\n				\n				\n				\n				\n				Rules and Eligibility\n				Registration is not official until credit card # or check is received. A refund minus a $5 processing fee is issued if cancellation is given 7 or more days prior to event. \n			\n			\n				\n				\n				\n				\n				\n				\n				\n				\n				\n				\n					\n					\n						Communication\n						Exchange ideas with fellow professionals in the Alarm Industry. \n					\n				\n			\n				\n				\n				\n				\n				\n					\n					\n						Raffle\n						Make sure to enter into the raffle to wins some items on display. 50% of proceeds will go to fund WISA’s Youth Scholarship Program. \n					\n				\n			\n				\n				\n				\n				\n				\n					\n					\n						Discounted Lodging\n						Hilton Garden Inn – Oconomowoc 12 min drive1443 Pabst Farms CircleOconomowoc\, WI 53066p: 262.200.2222f: 262.200.2223 \nGroup name – WISA Golf OutingBook online(Be sure to verify your stay dates) \nRESERVATIONS:$149 King Room + tax/night Includes breakfast$139 2 Queen Beds + tax/night includes breakfastMust reserve by 8/19/25 \n					\n				\n			\n				\n				\n				\n				\n				\n					\n					\n						Download Flyer\n						\n					\n				\n			\n			\n				\n				\n				\n				\n			\n				\n				\n				\n				\n				\n				\n				\n				\n				\n				\n				Title Sponsor\n			\n			\n				\n				\n				\n				\n			\n				\n				\n				\n				\n				\n				\n			\n				\n				\n				\n				\n				\n				\n				\n				\n				\n				\n			\n			\n				\n				\n				\n				\n				\n			\n				\n				\n				\n				\n			\n				\n				\n				\n				\n				\n				\n				\n				\n				\n				\n				2025 Event Sponsors\n			\n			\n				\n				\n				\n				\n			\n				\n				\n				\n				\n				\n				\n				\n				\n				\n				\n				\n			\n			\n				\n				\n				\n				\n				\n				\n				\n				\n				\n				\n			\n			\n				\n				\n				\n				\n				\n				\n				\n				\n				\n				\n			\n			\n				\n				\n				\n				\n				\n				\n				\n				\n				\n				\n			\n			\n				\n				\n				\n				\n				\n				\n				\n				\n				\n				\n			\n			\n				\n				\n				\n				\n			\n				\n				\n				\n				\n				\n				\n				\n				\n				\n				\n				\n			\n			\n				\n				\n				\n				\n				\n				\n				\n				\n				\n				\n			\n			\n				\n				\n				\n				\n				\n				\n				\n				\n				\n				\n			\n			\n				\n				\n				\n				\n				\n				\n				\n				\n				\n				\n			\n			\n				\n				\n				\n				\n				\n				\n				\n				\n				\n				\n			\n			\n				\n				\n				\n				\n			\n				\n				\n				\n				\n				\n				\n				\n				\n				\n				\n				\n			\n			\n				\n				\n				\n				\n				\n				\n				\n				\n				\n				\n			\n			\n				\n				\n				\n				\n				\n				\n				\n				\n				\n				\n			\n			\n				\n				\n				\n				\n				\n				\n				\n				\n				\n				\n			\n			\n				\n				\n				\n				\n				\n				\n				\n				\n				\n				\n			\n			\n				\n				\n				\n				\n			\n				\n				\n				\n				\n				\n				\n				\n				\n				\n				\n				\n			\n			\n				\n				\n				\n				\n				\n				\n				\n				\n				\n				\n			\n			\n				\n				\n				\n				\n				\n				\n				\n				\n				\n				\n			\n			\n				\n				\n				\n				\n				\n				\n				\n				\n				\n				\n			\n			\n				\n				\n				\n				\n				\n				\n				\n				\n				\n				\n			\n			\n				\n				\n				\n				\n			\n				\n				\n				\n				\n				\n				\n				\n				\n				\n				\n				\n			\n			\n				\n				\n				\n				\n				\n				\n				\n				\n				\n				\n			\n			\n				\n				\n				\n				\n				\n				\n				\n				\n				\n				\n			\n			\n				\n				\n				\n				\n				\n				\n				\n				\n				\n				\n			\n			\n				\n				\n				\n				\n				\n				\n				\n				\n				\n				\n			\n			\n				\n				\n				\n				\n			\n				\n				\n				\n				\n				\n				\n				\n				\n				\n				\n				\n			\n			\n				\n				\n				\n				\n				\n				\n				\n				\n				\n				\n			\n			\n				\n				\n				\n				\n				\n				\n				\n				\n				\n				\n			\n			\n				\n				\n				\n				\n				\n				\n				\n				\n				\n				\n			\n			\n				\n				\n				\n				\n				\n				\n				\n				\n				\n				\n			\n			\n				\n				\n				\n				\n			\n				\n				\n				\n				\n				\n				\n				\n				\n				\n				\n				\n			\n			\n				\n				\n				\n				\n				\n				\n				\n				\n				\n				\n			\n			\n				\n				\n				\n				\n				\n				\n				\n				\n				\n				\n			\n			\n				\n				\n				\n				\n				\n				\n				\n				\n				\n				\n			\n			\n				\n				\n				\n				\n				\n				\n				\n				\n				\n				\n			\n			\n				\n				\n				\n				\n			\n				\n				\n			\n				\n				\n				\n				\n				\n				\n				\n				\n				\n				\n				\n				\n					\n					\n						\n						\n						Reserve Your Exhibitor Space\n						Interested in joining this event? Various vendor and sponsorship opportunities are available. Check out the current list of sponsors below \n						Reserve Now\n					\n				\n					\n				\n				\n				\n					;
URL:https://www.wiesa.org/event/2025-jack-kelleher-memorial-golf-outing-september-18-2025/
LOCATION:Kettle Moraine Golf Club\, W365 S4299 Highway 67\, Dousman\, WI\, 53118\, United States
CATEGORIES:News and Events
ORGANIZER;CN="Dustin Skupniewitz":MAILTO:dustin.skupniewitz@adiglobal.com
END:VEVENT
END:VCALENDAR