BEGIN:VCALENDAR
VERSION:2.0
PRODID:-//Wisconsin Security Association Inc. - ECPv6.15.20//NONSGML v1.0//EN
CALSCALE:GREGORIAN
METHOD:PUBLISH
X-WR-CALNAME:Wisconsin Security Association Inc.
X-ORIGINAL-URL:https://www.wiesa.org
X-WR-CALDESC:Events for Wisconsin Security Association Inc.
REFRESH-INTERVAL;VALUE=DURATION:PT1H
X-Robots-Tag:noindex
X-PUBLISHED-TTL:PT1H
BEGIN:VTIMEZONE
TZID:America/Chicago
BEGIN:DAYLIGHT
TZOFFSETFROM:-0600
TZOFFSETTO:-0500
TZNAME:CDT
DTSTART:20240310T080000
END:DAYLIGHT
BEGIN:STANDARD
TZOFFSETFROM:-0500
TZOFFSETTO:-0600
TZNAME:CST
DTSTART:20241103T070000
END:STANDARD
BEGIN:DAYLIGHT
TZOFFSETFROM:-0600
TZOFFSETTO:-0500
TZNAME:CDT
DTSTART:20250309T080000
END:DAYLIGHT
BEGIN:STANDARD
TZOFFSETFROM:-0500
TZOFFSETTO:-0600
TZNAME:CST
DTSTART:20251102T070000
END:STANDARD
BEGIN:DAYLIGHT
TZOFFSETFROM:-0600
TZOFFSETTO:-0500
TZNAME:CDT
DTSTART:20260308T080000
END:DAYLIGHT
BEGIN:STANDARD
TZOFFSETFROM:-0500
TZOFFSETTO:-0600
TZNAME:CST
DTSTART:20261101T070000
END:STANDARD
END:VTIMEZONE
BEGIN:VEVENT
DTSTART;TZID=America/Chicago:20250910T080000
DTEND;TZID=America/Chicago:20250910T170000
DTSTAMP:20260421T181244
CREATED:20241026T165439Z
LAST-MODIFIED:20250818T155508Z
UID:77385-1757491200-1757523600@www.wiesa.org
SUMMARY:Understanding Electronic Security Systems
DESCRIPTION:Course Description\nThis 7-hour course\, followed by an exam\, teaches the basic elements of the electronic life safety and security industry including sensors\, control panels\, and communications with an emphasis on the need for an adequate site survey. It stresses the importance of false alarm prevention while exploring the interaction between electronic life safety and security professionals\, law enforcement and fire prevention officials. (.8 CEUs) \nSubject Areas\n• Alarm Systems • Fire System Devices • Security Devices • Communications • Managing Alarms • Needs Assessment \nWISA Members – $275\nNon-Members – $375 \nDownload your registration here! \n*Optional if sufficient enrollment of 12
URL:https://www.wiesa.org/event/understanding-electronic-security-systems-sept-10-2025-2025/
LOCATION:ADI\, 13100 W Lisbon Rd\, Brookfield\, WI\, 53005\, United States
CATEGORIES:Available Classes,Understanding Electronic Security Systems
ATTACH;FMTTYPE=image/jpeg:https://www.wiesa.org/wp-content/uploads/2024/10/Firefly-electronic-security-systems-17767-scaled.jpg
ORGANIZER;CN="Nicole Szopinski":MAILTO:executive.director@wiesa.org
END:VEVENT
END:VCALENDAR