BEGIN:VCALENDAR
VERSION:2.0
PRODID:-//Wisconsin Security Association Inc. - ECPv6.15.20//NONSGML v1.0//EN
CALSCALE:GREGORIAN
METHOD:PUBLISH
X-WR-CALNAME:Wisconsin Security Association Inc.
X-ORIGINAL-URL:https://www.wiesa.org
X-WR-CALDESC:Events for Wisconsin Security Association Inc.
REFRESH-INTERVAL;VALUE=DURATION:PT1H
X-Robots-Tag:noindex
X-PUBLISHED-TTL:PT1H
BEGIN:VTIMEZONE
TZID:America/Chicago
BEGIN:DAYLIGHT
TZOFFSETFROM:-0600
TZOFFSETTO:-0500
TZNAME:CDT
DTSTART:20230312T080000
END:DAYLIGHT
BEGIN:STANDARD
TZOFFSETFROM:-0500
TZOFFSETTO:-0600
TZNAME:CST
DTSTART:20231105T070000
END:STANDARD
BEGIN:DAYLIGHT
TZOFFSETFROM:-0600
TZOFFSETTO:-0500
TZNAME:CDT
DTSTART:20240310T080000
END:DAYLIGHT
BEGIN:STANDARD
TZOFFSETFROM:-0500
TZOFFSETTO:-0600
TZNAME:CST
DTSTART:20241103T070000
END:STANDARD
BEGIN:DAYLIGHT
TZOFFSETFROM:-0600
TZOFFSETTO:-0500
TZNAME:CDT
DTSTART:20250309T080000
END:DAYLIGHT
BEGIN:STANDARD
TZOFFSETFROM:-0500
TZOFFSETTO:-0600
TZNAME:CST
DTSTART:20251102T070000
END:STANDARD
END:VTIMEZONE
BEGIN:VEVENT
DTSTART;TZID=America/Chicago:20241114T150000
DTEND;TZID=America/Chicago:20241114T170000
DTSTAMP:20260422T034817
CREATED:20231015T032031Z
LAST-MODIFIED:20231015T032031Z
UID:68103-1731596400-1731603600@www.wiesa.org
SUMMARY:WISA Board Meeting
DESCRIPTION:All reports due November 10\, 2024 \nLocation to be determined.
URL:https://www.wiesa.org/event/wisa-board-meeting-3/
LOCATION:IL
CATEGORIES:News and Events
ORGANIZER;CN="Nicole Szopinski":MAILTO:executive.director@wiesa.org
END:VEVENT
BEGIN:VEVENT
DTSTART;TZID=America/Chicago:20241114T170000
DTEND;TZID=America/Chicago:20241114T200000
DTSTAMP:20260422T034817
CREATED:20241017T200107Z
LAST-MODIFIED:20241017T210924Z
UID:77213-1731603600-1731614400@www.wiesa.org
SUMMARY:Members Meeting | Don't Get Hooked: Protect Your Business from Phishing Attacks
DESCRIPTION:\n					\n						Member Meeting \n						WISA’s Annual Membership Meeting Exchange ideas with fellow professionals in the Alarm Industry. \n					\n				\n			\n			\n				\n				\n				\n				\n				\n				\n				\n				\n				\n				\n					\n					\n						Dinner will be served\n						5:45-6:30 pm \n					\n				\n			\n			\n				\n				\n				\n				\n				\n				\n				\n				\n				\n				\n					\n					\n						Hotel Info\n						Take advantage of a special discounted rate available thru Oct 25\, 2024. $99/night + tax. Mention WISA when calling the hotel @ 262-792-1212 \n					\n				\n			\n			\n				\n				\n				\n				\n			\n				\n				\n			\n				\n				\n				\n				\n				\n				\n				\n				\n				\n				\n				\n				\n				\n				\n				\n				\n				\n				You are invited to learn how not to get hooked!\n  \nPhishing scams are more sophisticated than ever\, posing a significant threat to businesses of all sizes. Are you equipped to protect your company from these cyber predators? \nJoin us for an eye-opening presentation by Angelo Vasta\, Director of Managed IT Services at Lisbon Creek Systems. With over 20 years of experience in IT management\, web development\, and cybersecurity\, Angelo specializes in developing robust IT solutions that prioritize security and efficiency. His hands-on experience—including his role as Director of Technical Operations at MPP Group LLC\, where he oversaw the full spectrum of IT infrastructure and cybersecurity—makes him uniquely qualified to guide you through the complexities of phishing prevention. \nIn this engaging session\, Angelo will share actionable insights and strategies to help you recognize and thwart phishing attempts. Empower yourself and your business with the knowledge to stay one step ahead of cybercriminals. \nWhy Attend? \n\nUnderstand the latest phishing types and techniques (including AI) targeting businesses today.\nLearn practical steps to enhance your company’s cybersecurity defenses.\nGain valuable insights from a global IT expert\n\nDon’t miss this opportunity to fortify your business against cyber threats. \nSecure your spot today! \nAgenda:5:00-5:30 pm Networking Opportunity5:30-5:45 pm President Speech and Introductions5:45-6:30 pm Dinner6:30-8:00 pm Don’t Get Hooked: Protect Your Business from Phishing Attacks
URL:https://www.wiesa.org/event/members-meeting-dont-get-hooked-protect-your-business-from-phishing-attacks/
LOCATION:The DoubleTree Hotel\, 18155 W Bluemound Road\, Brookfield\, WI\, 53045\, United States
CATEGORIES:News and Events
ORGANIZER;CN="Nicole Szopinski":MAILTO:executive.director@wiesa.org
END:VEVENT
END:VCALENDAR